BEGIN:VCALENDAR
VERSION:2.0
PRODID:-//Cascadia Poetics LAB - ECPv6.15.20//NONSGML v1.0//EN
CALSCALE:GREGORIAN
METHOD:PUBLISH
X-WR-CALNAME:Cascadia Poetics LAB
X-ORIGINAL-URL:https://cascadiapoeticslab.org
X-WR-CALDESC:Events for Cascadia Poetics LAB
REFRESH-INTERVAL;VALUE=DURATION:PT1H
X-Robots-Tag:noindex
X-PUBLISHED-TTL:PT1H
BEGIN:VTIMEZONE
TZID:America/Los_Angeles
BEGIN:DAYLIGHT
TZOFFSETFROM:-0800
TZOFFSETTO:-0700
TZNAME:PDT
DTSTART:20220313T100000
END:DAYLIGHT
BEGIN:STANDARD
TZOFFSETFROM:-0700
TZOFFSETTO:-0800
TZNAME:PST
DTSTART:20221106T090000
END:STANDARD
BEGIN:DAYLIGHT
TZOFFSETFROM:-0800
TZOFFSETTO:-0700
TZNAME:PDT
DTSTART:20230312T100000
END:DAYLIGHT
BEGIN:STANDARD
TZOFFSETFROM:-0700
TZOFFSETTO:-0800
TZNAME:PST
DTSTART:20231105T090000
END:STANDARD
BEGIN:DAYLIGHT
TZOFFSETFROM:-0800
TZOFFSETTO:-0700
TZNAME:PDT
DTSTART:20240310T100000
END:DAYLIGHT
BEGIN:STANDARD
TZOFFSETFROM:-0700
TZOFFSETTO:-0800
TZNAME:PST
DTSTART:20241103T090000
END:STANDARD
END:VTIMEZONE
BEGIN:VEVENT
DTSTART;VALUE=DATE:20230927
DTEND;VALUE=DATE:20230928
DTSTAMP:20260424T164352
CREATED:20230926T231119Z
LAST-MODIFIED:20230927T193442Z
UID:20722-1695772800-1695859199@cascadiapoeticslab.org
SUMMARY:Fall Founder's Circle Renewal
DESCRIPTION:Renewal of Founders Circle membership starts NOW\, in alignment with the Autumn Equinox and a time in which we experience an equal balance between day and night. Moving with the changing seasons\, we shift our mindsets towards the attitudes of fall: harvest\, abundance\, togetherness. As the angle of light deepens\, we celebrate the 7th Cascadia Poetry Festival and the release of our iconic anthology\, Cascadian Zen Vol. I and we are filled with gratitude for the abundance of community\, poetry and art that Cascadia Poetics Lab seeks to promote and celebrate through our activities.\n\nFounder’s Circle supporters are the backbone of this organization\, founded in 1993 and  re-branded September 1\, 2021 to better reflect current times through “empowering people to practice poetry and deepen connections to place\, self and the present moment.” The Founders Circle asks for an annual donation of $100 (or more) for general use in meeting our mission. Anything donated beyond this initial $100 can be assigned to a specific Cascadia Poetics Lab project chosen by the donor. Founders Circle members receive exclusive Cascadia Poetics Lab benefits: the opportunity for early-bird purchase of a Gold Pass for our Cascadia Poetry Festivals (next one in November 2024)\, and a choice of 1 of 3 books: Samthology\, American Prophets\, or Cascadian Prophets.\n\nWe appreciate your support for our organizations and major offerings\, like the Poetry Postcard Fest\, the Cascadian Prophets podcast and archives\, the Cascadia Poetry Festival and our publishing ventures. In a small organization like ours\, a little goes a long way.
URL:https://cascadiapoeticslab.org/event/fall-founders-circle-renewal/
LOCATION:Cascadia Poetics Lab
ATTACH;FMTTYPE=image/jpeg:https://cascadiapoeticslab.org/wp-content/uploads/2023/09/3C507C84-105D-475B-995C-A5600C3E636C.jpg
END:VEVENT
END:VCALENDAR