BEGIN:VCALENDAR
VERSION:2.0
PRODID:-//Cascadia Poetics LAB - ECPv6.15.20//NONSGML v1.0//EN
CALSCALE:GREGORIAN
METHOD:PUBLISH
X-WR-CALNAME:Cascadia Poetics LAB
X-ORIGINAL-URL:https://cascadiapoeticslab.org
X-WR-CALDESC:Events for Cascadia Poetics LAB
REFRESH-INTERVAL;VALUE=DURATION:PT1H
X-Robots-Tag:noindex
X-PUBLISHED-TTL:PT1H
BEGIN:VTIMEZONE
TZID:America/Los_Angeles
BEGIN:DAYLIGHT
TZOFFSETFROM:-0800
TZOFFSETTO:-0700
TZNAME:PDT
DTSTART:20220313T100000
END:DAYLIGHT
BEGIN:STANDARD
TZOFFSETFROM:-0700
TZOFFSETTO:-0800
TZNAME:PST
DTSTART:20221106T090000
END:STANDARD
BEGIN:DAYLIGHT
TZOFFSETFROM:-0800
TZOFFSETTO:-0700
TZNAME:PDT
DTSTART:20230312T100000
END:DAYLIGHT
BEGIN:STANDARD
TZOFFSETFROM:-0700
TZOFFSETTO:-0800
TZNAME:PST
DTSTART:20231105T090000
END:STANDARD
BEGIN:DAYLIGHT
TZOFFSETFROM:-0800
TZOFFSETTO:-0700
TZNAME:PDT
DTSTART:20240310T100000
END:DAYLIGHT
BEGIN:STANDARD
TZOFFSETFROM:-0700
TZOFFSETTO:-0800
TZNAME:PST
DTSTART:20241103T090000
END:STANDARD
END:VTIMEZONE
BEGIN:VEVENT
DTSTART;TZID=America/Los_Angeles:20230126T160000
DTEND;TZID=America/Los_Angeles:20230126T180000
DTSTAMP:20260422T093755
CREATED:20221130T041650Z
LAST-MODIFIED:20221130T043731Z
UID:12598-1674748800-1674756000@cascadiapoeticslab.org
SUMMARY:Poetics as Cosmology - Thursdays
DESCRIPTION:Poetics As Cosmology\n(Intro To Spontaneous Composition)\nA five week online (Zoom) workshop for people who have had a little experience in spontaneous poetry composition and want more. Join Cascadia Poetics Lab and Poetry Postcard Fest Co-Founder Paul E Nelson in a lively course designed to help you tap into deeper levels of knowing that can begin inform your non-writing life & reduce reliance on editing. Some theory to understand the poetics of 20th/21st c approaches to spontaneous composition\, some writing exercises\, discussion and between class homework. The work of Charles Olson\, Denise Levertov\, Michael McClure\, Wanda Coleman\, Nate Mackey\, Robert Duncan\, Robin Blaser and others may be discussed along with concepts such as seriality\, & investigative poetics & how to write more by getting the most out of first drafts. \nThe course being offered in January 2023 will focus on the first 60 pages of Brenda Hillman’s new book In a Few Minutes Before Later.\nFOR A 30% discount add the code: q301.\nThursdays\, 4-6pm PST\, Jan 12\, 19\, 26\, Feb 2 & 9\, 2023. REGISTER FOR THURSDAYS HERE. \n\n\nLimit – 12 participants in each session. \n\n\nI think you can take a lot of credit for the fact that people were inspired to do great work in the class.  There is something about the model that really works.  You give people inspiring prompts and fire them up.  But the group is not a “class” really. And that is good. In a class people are children. And that is sort of paralyzing. It is more of an organic community — of equals — so people are constantly getting inspired by each other.  It is supportive\, not competitive\, and non-hierarchical. And you have an amazing capacity to listen to each person.  I enjoy the workshops and the “family” but — most important — I keep coming back because the classes — and the rich poetry community you have created — keep me writing.  \n—Ann Graham Walker\nNanoose Bay\, BC\n1-NOV-2022\nOct 7\, 2022 \n  \nCLICK FOR MORE TESTIMONIALS
URL:https://cascadiapoeticslab.org/event/poetics-as-cosmology-thursdays-3/
LOCATION:Online (Zoom)
ATTACH;FMTTYPE=image/jpeg:https://cascadiapoeticslab.org/wp-content/uploads/2022/11/2PoeticsAsCosmologywithBrendaHillman2160x1217.jpg
ORGANIZER;CN="Paul E. Nelson":MAILTO:splabman@icloud.com
END:VEVENT
END:VCALENDAR