BEGIN:VCALENDAR
VERSION:2.0
PRODID:-//Cascadia Poetics LAB - ECPv6.15.20//NONSGML v1.0//EN
CALSCALE:GREGORIAN
METHOD:PUBLISH
X-WR-CALNAME:Cascadia Poetics LAB
X-ORIGINAL-URL:https://cascadiapoeticslab.org
X-WR-CALDESC:Events for Cascadia Poetics LAB
REFRESH-INTERVAL;VALUE=DURATION:PT1H
X-Robots-Tag:noindex
X-PUBLISHED-TTL:PT1H
BEGIN:VTIMEZONE
TZID:America/Los_Angeles
BEGIN:DAYLIGHT
TZOFFSETFROM:-0800
TZOFFSETTO:-0700
TZNAME:PDT
DTSTART:20240310T100000
END:DAYLIGHT
BEGIN:STANDARD
TZOFFSETFROM:-0700
TZOFFSETTO:-0800
TZNAME:PST
DTSTART:20241103T090000
END:STANDARD
BEGIN:DAYLIGHT
TZOFFSETFROM:-0800
TZOFFSETTO:-0700
TZNAME:PDT
DTSTART:20250309T100000
END:DAYLIGHT
BEGIN:STANDARD
TZOFFSETFROM:-0700
TZOFFSETTO:-0800
TZNAME:PST
DTSTART:20251102T090000
END:STANDARD
BEGIN:DAYLIGHT
TZOFFSETFROM:-0800
TZOFFSETTO:-0700
TZNAME:PDT
DTSTART:20260308T100000
END:DAYLIGHT
BEGIN:STANDARD
TZOFFSETFROM:-0700
TZOFFSETTO:-0800
TZNAME:PST
DTSTART:20261101T090000
END:STANDARD
END:VTIMEZONE
BEGIN:VEVENT
DTSTART;TZID=America/Los_Angeles:20250608T160000
DTEND;TZID=America/Los_Angeles:20250608T190000
DTSTAMP:20260423T152403
CREATED:20250412T212541Z
LAST-MODIFIED:20250529T023113Z
UID:27201-1749398400-1749409200@cascadiapoeticslab.org
SUMMARY:Postcards from Mapes Creek
DESCRIPTION:Join us on June 8\, 2025 from 4-7 PM at Mapes Creek for a community poetry postcard gathering! At the mouth of Mapes Creek\, we will gather with a postcard collage table\, food and an open mic for reading postcard poems. This is a casual poetry postcard event\, so we would appreciate if any participants would be able to donate materials for the collage table\, such as old magazines\, glue\, scissors\, empty postcards\, etc. Food will be served potluck-style\, so bring your favorite dishes and snacks along with a postcard poem or two to read at the open mic! Seating is limited\, so bring a chair. Jim O’Halloran will play flute there along with vibraphonist Susan Pascal. Join us to prepare for the 2025 Poetry Postcard Fest & help us celebrate our favorite little urban stream.Read what Ashley Townes is doing to help it here. \nJune 8\, 2025\n4-7 PM PST\nMapes Creek in Be’er Sheva Park
URL:https://cascadiapoeticslab.org/event/postcards-from-mapes-creek-2/
LOCATION:Atlantic City Boat Launch\, 9026 Seward Park Ave S\, Seattle\, 98118\, United States
ATTACH;FMTTYPE=image/jpeg:https://cascadiapoeticslab.org/wp-content/uploads/2025/05/2025-05-28-Web-Banner-Mapes-Creek-Banner.jpg
END:VEVENT
END:VCALENDAR