BEGIN:VCALENDAR
VERSION:2.0
PRODID:-//Cascadia Poetics LAB - ECPv6.15.20//NONSGML v1.0//EN
CALSCALE:GREGORIAN
METHOD:PUBLISH
X-ORIGINAL-URL:https://cascadiapoeticslab.org
X-WR-CALDESC:Events for Cascadia Poetics LAB
REFRESH-INTERVAL;VALUE=DURATION:PT1H
X-Robots-Tag:noindex
X-PUBLISHED-TTL:PT1H
BEGIN:VTIMEZONE
TZID:America/Los_Angeles
BEGIN:DAYLIGHT
TZOFFSETFROM:-0800
TZOFFSETTO:-0700
TZNAME:PDT
DTSTART:20240310T100000
END:DAYLIGHT
BEGIN:STANDARD
TZOFFSETFROM:-0700
TZOFFSETTO:-0800
TZNAME:PST
DTSTART:20241103T090000
END:STANDARD
BEGIN:DAYLIGHT
TZOFFSETFROM:-0800
TZOFFSETTO:-0700
TZNAME:PDT
DTSTART:20250309T100000
END:DAYLIGHT
BEGIN:STANDARD
TZOFFSETFROM:-0700
TZOFFSETTO:-0800
TZNAME:PST
DTSTART:20251102T090000
END:STANDARD
BEGIN:DAYLIGHT
TZOFFSETFROM:-0800
TZOFFSETTO:-0700
TZNAME:PDT
DTSTART:20260308T100000
END:DAYLIGHT
BEGIN:STANDARD
TZOFFSETFROM:-0700
TZOFFSETTO:-0800
TZNAME:PST
DTSTART:20261101T090000
END:STANDARD
END:VTIMEZONE
BEGIN:VEVENT
DTSTART;TZID=America/Los_Angeles:20250108T190000
DTEND;TZID=America/Los_Angeles:20250108T210000
DTSTAMP:20260421T085211
CREATED:20250107T181559Z
LAST-MODIFIED:20250107T181559Z
UID:26180-1736362800-1736370000@cascadiapoeticslab.org
SUMMARY:Zach Charles Book Launch
DESCRIPTION:Zach Charles 24 Portraits at 24 Book Launch! \nJoin us for a celebration of the publication of Zach Charles’ first poetry collection 24 Portraits at 24! Zach is a member of CPL’s Poetry Postcard Fest committee\, Cascadia 2050\, is Paul Nelson’s audio assistant for Cascadian Prophets\, and a good friend of the organization. 24 Portraits at 24 is an intuitive and insightful exploration of modern young adulthood and the issues faced by the next generation of adults amidst political and social unrest and ecological deterioration\, all framed in conversations with Charles and their grandfathers. The chapbook was published by Carbonation Press. \nCelebrate this pivotal accomplishment in poetry and place with us on Wednesday\, January 8 (THIS WEDNESDAY) at the Hugo House\, 7-9 PM PST! The event will feature tables from arts organizations and poetry readings.
URL:https://cascadiapoeticslab.org/event/zach-charles-book-launch/
LOCATION:Richard Hugo House\, 1634 11th Ave\, Seattle\, WA\, 98122\, United States
ATTACH;FMTTYPE=image/jpeg:https://cascadiapoeticslab.org/wp-content/uploads/2024/11/Zach-Charles-24-Self-Portraits.jpg
END:VEVENT
END:VCALENDAR