BEGIN:VCALENDAR
VERSION:2.0
PRODID:-//Cascadia Poetics LAB - ECPv6.15.20//NONSGML v1.0//EN
CALSCALE:GREGORIAN
METHOD:PUBLISH
X-ORIGINAL-URL:https://cascadiapoeticslab.org
X-WR-CALDESC:Events for Cascadia Poetics LAB
REFRESH-INTERVAL;VALUE=DURATION:PT1H
X-Robots-Tag:noindex
X-PUBLISHED-TTL:PT1H
BEGIN:VTIMEZONE
TZID:America/Los_Angeles
BEGIN:DAYLIGHT
TZOFFSETFROM:-0800
TZOFFSETTO:-0700
TZNAME:PDT
DTSTART:20240310T100000
END:DAYLIGHT
BEGIN:STANDARD
TZOFFSETFROM:-0700
TZOFFSETTO:-0800
TZNAME:PST
DTSTART:20241103T090000
END:STANDARD
BEGIN:DAYLIGHT
TZOFFSETFROM:-0800
TZOFFSETTO:-0700
TZNAME:PDT
DTSTART:20250309T100000
END:DAYLIGHT
BEGIN:STANDARD
TZOFFSETFROM:-0700
TZOFFSETTO:-0800
TZNAME:PST
DTSTART:20251102T090000
END:STANDARD
BEGIN:DAYLIGHT
TZOFFSETFROM:-0800
TZOFFSETTO:-0700
TZNAME:PDT
DTSTART:20260308T100000
END:DAYLIGHT
BEGIN:STANDARD
TZOFFSETFROM:-0700
TZOFFSETTO:-0800
TZNAME:PST
DTSTART:20261101T090000
END:STANDARD
END:VTIMEZONE
BEGIN:VEVENT
DTSTART;TZID=America/Los_Angeles:20250401T190000
DTEND;TZID=America/Los_Angeles:20250401T200000
DTSTAMP:20260423T034022
CREATED:20250311T004857Z
LAST-MODIFIED:20250311T004857Z
UID:26867-1743534000-1743537600@cascadiapoeticslab.org
SUMMARY:Winter in America (Again Bookshop Santa Cruz
DESCRIPTION:Join us for a powerful evening of poetry and reflection! Celebrate the release of Winter in America (Again: Poets Respond to the 2024 Election\, an urgent and moving anthology featuring voices that capture this moment in history. Experience readings from contributing poets as they explore democracy\, resilience\, and the road ahead. Books available for purchase and signing. Don’t miss this inspiring gathering of literary resistance and hope! Featured readers include Dane Cervine\, Julia Chiapella\, Robert Lashley\, Dion O’Reilly\, Paul Nelson\, Roxi Power and Matt Trease.
URL:https://cascadiapoeticslab.org/event/winter-in-america-again-bookshop/
LOCATION:Bookshop Santa Cruz\, 1520 Pacific Ave\, Santa Cruz\, CA\, 95060\, United States
ATTACH;FMTTYPE=image/png:https://cascadiapoeticslab.org/wp-content/uploads/2025/03/Add-a-subheading-1080-x-720-px-1.png
END:VEVENT
END:VCALENDAR