BEGIN:VCALENDAR
VERSION:2.0
PRODID:-//Cascadia Poetics LAB - ECPv6.15.20//NONSGML v1.0//EN
CALSCALE:GREGORIAN
METHOD:PUBLISH
X-WR-CALNAME:Cascadia Poetics LAB
X-ORIGINAL-URL:https://cascadiapoeticslab.org
X-WR-CALDESC:Events for Cascadia Poetics LAB
REFRESH-INTERVAL;VALUE=DURATION:PT1H
X-Robots-Tag:noindex
X-PUBLISHED-TTL:PT1H
BEGIN:VTIMEZONE
TZID:America/Los_Angeles
BEGIN:DAYLIGHT
TZOFFSETFROM:-0800
TZOFFSETTO:-0700
TZNAME:PDT
DTSTART:20250309T100000
END:DAYLIGHT
BEGIN:STANDARD
TZOFFSETFROM:-0700
TZOFFSETTO:-0800
TZNAME:PST
DTSTART:20251102T090000
END:STANDARD
BEGIN:DAYLIGHT
TZOFFSETFROM:-0800
TZOFFSETTO:-0700
TZNAME:PDT
DTSTART:20260308T100000
END:DAYLIGHT
BEGIN:STANDARD
TZOFFSETFROM:-0700
TZOFFSETTO:-0800
TZNAME:PST
DTSTART:20261101T090000
END:STANDARD
BEGIN:DAYLIGHT
TZOFFSETFROM:-0800
TZOFFSETTO:-0700
TZNAME:PDT
DTSTART:20270314T100000
END:DAYLIGHT
BEGIN:STANDARD
TZOFFSETFROM:-0700
TZOFFSETTO:-0800
TZNAME:PST
DTSTART:20271107T090000
END:STANDARD
END:VTIMEZONE
BEGIN:VEVENT
DTSTART;TZID=America/Los_Angeles:20260425T110000
DTEND;TZID=America/Los_Angeles:20260425T130000
DTSTAMP:20260425T031730
CREATED:20250911T174230Z
LAST-MODIFIED:20251116T190446Z
UID:29143-1777114800-1777122000@cascadiapoeticslab.org
SUMMARY:Mapes Creek Blessing
DESCRIPTION:Multi-cultural and multi-spiritual blessing of Mapes Creek at Be’er Sheva Park in Rainier Beach. \nApril 25\, 2026\n11 AM-1 PM
URL:https://cascadiapoeticslab.org/event/mapes-creek-blessing/
LOCATION:Mapes Creek\, 8650 55th Ave S\, Seattle\, WA\, 98118\, United States
ATTACH;FMTTYPE=image/jpeg:https://cascadiapoeticslab.org/wp-content/uploads/2024/06/1-Mapes-Creek-Postcard_1080.jpg
END:VEVENT
END:VCALENDAR