BEGIN:VCALENDAR
VERSION:2.0
PRODID:-//Cascadia Poetics LAB - ECPv6.15.20//NONSGML v1.0//EN
CALSCALE:GREGORIAN
METHOD:PUBLISH
X-ORIGINAL-URL:https://cascadiapoeticslab.org
X-WR-CALDESC:Events for Cascadia Poetics LAB
REFRESH-INTERVAL;VALUE=DURATION:PT1H
X-Robots-Tag:noindex
X-PUBLISHED-TTL:PT1H
BEGIN:VTIMEZONE
TZID:America/Los_Angeles
BEGIN:DAYLIGHT
TZOFFSETFROM:-0800
TZOFFSETTO:-0700
TZNAME:PDT
DTSTART:20240310T100000
END:DAYLIGHT
BEGIN:STANDARD
TZOFFSETFROM:-0700
TZOFFSETTO:-0800
TZNAME:PST
DTSTART:20241103T090000
END:STANDARD
BEGIN:DAYLIGHT
TZOFFSETFROM:-0800
TZOFFSETTO:-0700
TZNAME:PDT
DTSTART:20250309T100000
END:DAYLIGHT
BEGIN:STANDARD
TZOFFSETFROM:-0700
TZOFFSETTO:-0800
TZNAME:PST
DTSTART:20251102T090000
END:STANDARD
BEGIN:DAYLIGHT
TZOFFSETFROM:-0800
TZOFFSETTO:-0700
TZNAME:PDT
DTSTART:20260308T100000
END:DAYLIGHT
BEGIN:STANDARD
TZOFFSETFROM:-0700
TZOFFSETTO:-0800
TZNAME:PST
DTSTART:20261101T090000
END:STANDARD
END:VTIMEZONE
BEGIN:VEVENT
DTSTART;TZID=America/Los_Angeles:20250202T150000
DTEND;TZID=America/Los_Angeles:20250202T170000
DTSTAMP:20260421T091420
CREATED:20250107T181208Z
LAST-MODIFIED:20250107T181208Z
UID:26178-1738508400-1738515600@cascadiapoeticslab.org
SUMMARY:LARFP Winter 2025
DESCRIPTION:life as rehearsal for the poem (LARFP) cascadian zen basket four: Borders Without Binaries\nA five week online (Zoom) workshop best suited for continuing participants and more experienced poets (open to open form) in workshops facilitated by Cascadia Poetics Lab and Poetry Postcard Fest Co-Founder Paul E Nelson. Participate in reading and discussion of foundational essays\, interviews\, listening and other assignments\, as well as spontaneous poetry composition exercises\, in the first of three five week courses to happen before the next postcard season. In Winter 20205\, we will explore passages from Cascadian Zen Vol 2 – Basket Four\, and related texts and assignments. How can one’s poetics be a cosmology and how can one maintain some experience of the Poetry Postcard Fest\, & allow one’s life as a creative participant in the world to rise in one’s personal hierarchy of duties/activities? How is the projective poem an antidote to Silicon Valley attention fracking? $250 for each five week session per person\, scholarships are available. Sunday nights\, 3-5pm PDT (January 5\, 12\, 19\, 26\, and February 2\, 2025) by invitation only. Preference given to participants who wish to commit to both five-week sessions in the 2025 season. \nJanuary 5\, 12\, 19\, 26\, 2025\nFebruary 2\, 2025 \nREGISTER HERE \nLink to purchase Cascadian Zen Volume 2
URL:https://cascadiapoeticslab.org/event/larfp-winter-2025-5/
LOCATION:Online (Zoom)
ATTACH;FMTTYPE=image/jpeg:https://cascadiapoeticslab.org/wp-content/uploads/2024/10/2024-10-30-LARFP-V2.jpg
END:VEVENT
BEGIN:VEVENT
DTSTART;TZID=America/Los_Angeles:20250204T190000
DTEND;TZID=America/Los_Angeles:20250204T210000
DTSTAMP:20260421T091420
CREATED:20250128T181244Z
LAST-MODIFIED:20250131T210457Z
UID:26364-1738695600-1738702800@cascadiapoeticslab.org
SUMMARY:Winter in America (Again Reading
DESCRIPTION:Join us to mark the publication of Winter in America (Again with in person readings by many of the contributing poets. \nTuesday\, February 4\, 2025\nSeattle University Sinegal Center for Science and Innovation\nSinegal 110\n901 12th Ave (Corner of 12th and Marion)\nSeattle\, WA 98122
URL:https://cascadiapoeticslab.org/event/winter-in-america-again-reading/
LOCATION:Seattle University Sinegal\, 901 12th Ave\, Seattle\, WA\, 98122\, United States
ATTACH;FMTTYPE=image/webp:https://cascadiapoeticslab.org/wp-content/uploads/2025/01/2025_01_07_WID_BC_OTHER_Winter_6x9_lulu-us-trade-paperback-template-scaled-1.webp
END:VEVENT
BEGIN:VEVENT
DTSTART;TZID=America/Los_Angeles:20250206T150000
DTEND;TZID=America/Los_Angeles:20250206T170000
DTSTAMP:20260421T091420
CREATED:20250107T183453Z
LAST-MODIFIED:20250107T183453Z
UID:26190-1738854000-1738861200@cascadiapoeticslab.org
SUMMARY:Poetics as Cosmology Winter 2025
DESCRIPTION:POETICS AS COSMOLOGY CASCADIAN ZEN BASKET FOUR: BORDERS WITHOUT BINARIES \nA five week online (Zoom) workshop for first-time and continuing participants in the online workshops facilitated by Cascadia Poetics Lab and Poetry Postcard Fest Co-Founder Paul E Nelson. Participate in reading and discussion of foundational essays\, interviews\, listening and other assignments\, as well as spontaneous poetry composition exercises\, in the second of three\, five week courses to happen before next postcard season. In Winter 2025\, we will explore passages from Cascadian Zen Vol II – Basket Four\, and related texts and assignments. How can one’s poetics be a cosmology and maintain some experience of the Poetry Postcard Fest\, to allow one’s life as a creative participant in the world to rise in one’s personal hierarchy of duties/activities? How is the projective poem an antidote to Silicon Valley attention fracking? $250 for each five week session per person\, scholarships are available. Thursdays\, 3-5pm Pacific Time (January 9\, 16\, 23\, 30\, and February 6). \nThursday Nights\, 3-5 PM Pacific Time\nJanuary 9 – February 6\, 2025\n(January 9\, 16\, 23\, 30\, and February 6)\nREGISTER HERE \nLink to purchase Cascadian Zen Volume 2
URL:https://cascadiapoeticslab.org/event/poetics-as-cosmology-winter-2025-5/
LOCATION:Online (Zoom)
ATTACH;FMTTYPE=image/jpeg:https://cascadiapoeticslab.org/wp-content/uploads/2024/10/2024-10-30-PAC.jpg
END:VEVENT
BEGIN:VEVENT
DTSTART;TZID=America/Los_Angeles:20250208T140000
DTEND;TZID=America/Los_Angeles:20250208T160000
DTSTAMP:20260421T091420
CREATED:20250107T184316Z
LAST-MODIFIED:20250107T184316Z
UID:26196-1739023200-1739030400@cascadiapoeticslab.org
SUMMARY:Sam Hamill's Narrow Road to the Interior
DESCRIPTION:Sam Hamill’s Narrow Road to the Interior\nPoet\, translator\, editor\, Zen Buddhist\, co-founder of Copper Canyon Press\, and activist for Poets Against (the)War\, Sam Hamill devoted his whole life to the practice of writing poetry. The following topics are foundational for this generative workshop: how ancient poetic traditions still define quality poetry\, the Beat poets\, the long poetic sequence\, poetry as political\, and the role of reflection and emotion. Facilitator Katie Sarah Zale is writing a biography on Hamill’s life and legacy. \nSaturdays 2 – 4:00 PM Pacific Time\nFebruary 8 – March 8\, 2025 \nFebruary 8\, 15\, 22\nMarch 1\, 8 \nLEARN MORE AND REGISTER HERE 
URL:https://cascadiapoeticslab.org/event/sam-hamills-narrow-road-to-the-interior/
LOCATION:Online (Zoom)
ATTACH;FMTTYPE=image/jpeg:https://cascadiapoeticslab.org/wp-content/uploads/2025/01/1_Workshop_Banner_Sam_Hamills_NRI_B_1920.jpg
END:VEVENT
BEGIN:VEVENT
DTSTART;TZID=America/Los_Angeles:20250211T180000
DTEND;TZID=America/Los_Angeles:20250211T190000
DTSTAMP:20260421T091420
CREATED:20250107T183851Z
LAST-MODIFIED:20250107T183851Z
UID:26194-1739296800-1739300400@cascadiapoeticslab.org
SUMMARY:CPL Board Meeting
DESCRIPTION:Monthly meeting for the Cascadia Poetics Lab board and key volunteers. \nEvery second Tuesday of the month.
URL:https://cascadiapoeticslab.org/event/cpl-board-meeting-5/
LOCATION:Online (Zoom)
ATTACH;FMTTYPE=image/jpeg:https://cascadiapoeticslab.org/wp-content/uploads/2025/01/2025-01-05-CPL-CRATER-LAKE-POP-TEXTURED-1920.jpg
END:VEVENT
BEGIN:VEVENT
DTSTART;TZID=America/Los_Angeles:20250215T140000
DTEND;TZID=America/Los_Angeles:20250215T160000
DTSTAMP:20260421T091420
CREATED:20250107T184445Z
LAST-MODIFIED:20250107T184458Z
UID:26200-1739628000-1739635200@cascadiapoeticslab.org
SUMMARY:Sam Hamill's Narrow Road to the Interior
DESCRIPTION:Sam Hamill’s Narrow Road to the Interior \nPoet\, translator\, editor\, Zen Buddhist\, co-founder of Copper Canyon Press\, and activist for Poets Against (the)War\, Sam Hamill devoted his whole life to the practice of writing poetry. The following topics are foundational for this generative workshop: how ancient poetic traditions still define quality poetry\, the Beat poets\, the long poetic sequence\, poetry as political\, and the role of reflection and emotion. Facilitator Katie Sarah Zale is writing a biography on Hamill’s life and legacy. \nSaturdays 2 – 4:00 PM Pacific Time\nFebruary 8 – March 8\, 2025 \nFebruary 8\, 15\, 22\nMarch 1\, 8 \nLEARN MORE AND REGISTER HERE 
URL:https://cascadiapoeticslab.org/event/sam-hamills-narrow-road-to-the-interior-2/
LOCATION:Online (Zoom)
ATTACH;FMTTYPE=image/jpeg:https://cascadiapoeticslab.org/wp-content/uploads/2025/01/1_Workshop_Banner_Sam_Hamills_NRI_B_1920.jpg
END:VEVENT
BEGIN:VEVENT
DTSTART;TZID=America/Los_Angeles:20250222T140000
DTEND;TZID=America/Los_Angeles:20250222T160000
DTSTAMP:20260421T091420
CREATED:20250107T184631Z
LAST-MODIFIED:20250107T184631Z
UID:26202-1740232800-1740240000@cascadiapoeticslab.org
SUMMARY:Sam Hamill's Narrow Road to the Interior
DESCRIPTION:Sam Hamill’s Narrow Road to the Interior \nPoet\, translator\, editor\, Zen Buddhist\, co-founder of Copper Canyon Press\, and activist for Poets Against (the)War\, Sam Hamill devoted his whole life to the practice of writing poetry. The following topics are foundational for this generative workshop: how ancient poetic traditions still define quality poetry\, the Beat poets\, the long poetic sequence\, poetry as political\, and the role of reflection and emotion. Facilitator Katie Sarah Zale is writing a biography on Hamill’s life and legacy. \nSaturdays 2 – 4:00 PM Pacific Time\nFebruary 8 – March 8\, 2025 \nFebruary 8\, 15\, 22\nMarch 1\, 8 \nLEARN MORE AND REGISTER HERE 
URL:https://cascadiapoeticslab.org/event/sam-hamills-narrow-road-to-the-interior-3/
LOCATION:Online (Zoom)
ATTACH;FMTTYPE=image/jpeg:https://cascadiapoeticslab.org/wp-content/uploads/2025/01/1_Workshop_Banner_Sam_Hamills_NRI_B_1920.jpg
END:VEVENT
BEGIN:VEVENT
DTSTART;TZID=America/Los_Angeles:20250223T150000
DTEND;TZID=America/Los_Angeles:20250223T170000
DTSTAMP:20260421T091420
CREATED:20250113T204211Z
LAST-MODIFIED:20250113T204211Z
UID:26220-1740322800-1740330000@cascadiapoeticslab.org
SUMMARY:Thinkingwith: writing strategies for reconnecting to earth
DESCRIPTION:Thinkingwith: writing strategies for reconnecting to earth\nOur current media landscape seems hooked on a doom loop\, an apocalyptic dream of human self-annihilation from collapsing nation states and anarchy to climate change to AI terminators\, to genocidal warmongering. In order to avoid going down with that ship\, we\, as humans\, are going to need to flip the script\, to learn to think differently. \nThis lab will focus on writing strategies\, applicable for poetry or prose\, for breaking the spell that objectifies and cuts us off from the earth and from place and all the living beings that we (often) obliviously live in relationship with. We’ll do that by intentionally widening the socially-imposed conventions of “normal” perception via some minor alterations to our daily writing practices. \nAs a trail guide in this 5-week excursion\, we’ll read through the first section of Plant Intelligence and the Imaginal Realm: Beyond the Doors of Perception into the Dreaming of Earth by the late herbalist and self-described “Bardic Naturalist” of the Gaian movement\, Stephen Harrod Buhner as well as writing by Goertha\, Gertrude Stein\, Francis Ponge\, Will Alexander\, Bernadette Mayer\, Italo Calvino and more. \nSundays 3-5:00 PM Pacific Time\nFebruary 23 – March 23\, 2025 \nFebruary 23\nMarch 2\, 9\, 16\, & 23 \nREGISTER HERE
URL:https://cascadiapoeticslab.org/event/thinkingwith-writing-strategies-for-reconnecting-to-earth/
LOCATION:Online (Zoom)
ATTACH;FMTTYPE=image/jpeg:https://cascadiapoeticslab.org/wp-content/uploads/2024/12/2024-12-27-Thinkingwith-Matt-Trease-Workshop-Banner.jpg
END:VEVENT
END:VCALENDAR